BEGIN:VCALENDAR
VERSION:2.0
PRODID:www.codnes.sk
BEGIN:VEVENT
UID:69e759e2a05d4
DTSTART:20260428T140000Z
SEQUENCE:0
TRANSP:OPAQUE
DTEND:20260428T220000Z
LOCATION:Barrack - Bowling & Laser Game Prievidza\, Mliekarenská\, Prievid
 za
SUMMARY:🎉4. NARODENINY BARRACKU 🎉
CLASS:PUBLIC
DESCRIPTION:Dňa 28.4. oslavujeme 4.rok od otvorenia podniku. Práve preto 
 sme si pre vás pripravili brutálnu zľavu na hry a to až 50%😉\nNEZME
 ŠKAJ TO!
DTSTAMP:20260421T110506Z
END:VEVENT
END:VCALENDAR