BEGIN:VCALENDAR
VERSION:2.0
PRODID:www.codnes.sk
BEGIN:VEVENT
UID:69ecfdfa4bc93
DTSTART:20260515T140000Z
SEQUENCE:0
TRANSP:OPAQUE
DTEND:20260626T180000Z
LOCATION:Galéria Imricha Vysočana Prievidza\, 36 Námestie slobody\, Prie
 vidza
SUMMARY:ABSTRAKCIE\, AKVARELY\, VITRÁŽE - Mgr. Art. Peter Hitzinger
CLASS:PUBLIC
DESCRIPTION:Výstava je zároveň odrazom ďalších jeho tvorivých aktiv
 ít a výtvarných žánrov\, ktorým sa venuje
DTSTAMP:20260425T174634Z
END:VEVENT
END:VCALENDAR