BEGIN:VCALENDAR
VERSION:2.0
PRODID:www.codnes.sk
BEGIN:VEVENT
UID:69eccea957f2d
DTSTART:20260426T150000Z
SEQUENCE:0
TRANSP:OPAQUE
DTEND:20260426T163000Z
LOCATION:Dom kultúry Nováky\, M. R. Štefánika 9\, Nováky
SUMMARY:Aristofanes- LYSISTRATA
CLASS:PUBLIC
DESCRIPTION:Príďte sa zabaviť a pomôžte. Kúpou vstupenky prispievate 
 deťom so zdravotným znevýhodnením.
DTSTAMP:20260425T142441Z
END:VEVENT
END:VCALENDAR