BEGIN:VCALENDAR
VERSION:2.0
PRODID:www.codnes.sk
BEGIN:VEVENT
UID:69e76e54901e6
DTSTART:20260508T100000Z
SEQUENCE:0
TRANSP:OPAQUE
DTEND:20260510T180000Z
LOCATION:Hurbanovo námestie\, Bojnice\, Hurbanovo námestie\, Bojnice
SUMMARY:BOJNICKÝ JARMOK 2026 - kompletný program
CLASS:PUBLIC
DESCRIPTION:Mesto Bojnice a KC Bojnice pripravujú už 29. ročník Bojnick
 ého  jarmoku\, ktorý je vďaka nezameniteľnému priestoru pod Bojnický
 m zámkom  každoročne navštevovaný hojným počtom návštevníkov. pi
 atok 8.\, sobota 9. a nedeľa 10. mája 2026
DTSTAMP:20260421T123220Z
END:VEVENT
END:VCALENDAR