BEGIN:VCALENDAR
VERSION:2.0
PRODID:www.codnes.sk
BEGIN:VEVENT
UID:69e7479ae41ad
DTSTART:20260523T120000Z
SEQUENCE:0
TRANSP:OPAQUE
DTEND:20260523T120000Z
LOCATION:Farma pod Vtáčnikom\, Na papiereň 150\, Kamenec pod Vtáčnikom
SUMMARY:Dynasport beh na Vtáčnik
CLASS:PUBLIC
DESCRIPTION:Dynasport beh na Vtáčnik nebude len obyčajný beh.
DTSTAMP:20260421T094706Z
END:VEVENT
END:VCALENDAR