BEGIN:VCALENDAR
VERSION:2.0
PRODID:www.codnes.sk
BEGIN:VEVENT
UID:69ea1c22f3931
DTSTART:20260424T090000Z
SEQUENCE:0
TRANSP:OPAQUE
DTEND:20260424T130000Z
LOCATION:Centrum voľného času Spektrum Prievidza\, K. Novackého 14.\, P
 rievidza
SUMMARY:EKOROK S NESTLÉ SLOVENSKO „Správa o planéte Zem“ v CVČ Spek
 trum Prievidza
CLASS:PUBLIC
DESCRIPTION:Záverečné vyhodnotenie projektu
DTSTAMP:20260423T131826Z
END:VEVENT
END:VCALENDAR