BEGIN:VCALENDAR
VERSION:2.0
PRODID:www.codnes.sk
BEGIN:VEVENT
UID:69e8ccaab8fdd
DTSTART:20260425T150000Z
SEQUENCE:0
TRANSP:OPAQUE
DTEND:20260425T170000Z
LOCATION:Futbalový štadión Prievidza\, Športová 39\, 97101
SUMMARY:Futbal: Baník Prievidza vs. Trenčín B
CLASS:PUBLIC
DESCRIPTION:Futbaloví Baníci budú chcieť pretrhnúť sériu troch zápa
 sov bez víťazstva. Doma hostia zaujímavý celok - béčko nikéligovéh
 o Trenčína.
DTSTAMP:20260422T132706Z
END:VEVENT
END:VCALENDAR