BEGIN:VCALENDAR
VERSION:2.0
PRODID:www.codnes.sk
BEGIN:VEVENT
UID:69e8960ecbeb3
DTSTART:20260511T180000Z
SEQUENCE:0
TRANSP:OPAQUE
LOCATION:Kultúrny dom Prievidza - KaSS\, Fraňa Madvu 11\, Prievidza
SUMMARY:GLORIA!
CLASS:PUBLIC
DESCRIPTION:V krásnom a strhujúcom muzikáli speváčky a skladateľky Ma
 rgherity Vicario sa skupina marginalizovaných mladých žien v Benátkach
  18. storočia snaží prostredníctvom svojho hudobného talentu nájsť 
 slobodu.
DTSTAMP:20260422T093406Z
END:VEVENT
END:VCALENDAR