BEGIN:VCALENDAR
VERSION:2.0
PRODID:www.codnes.sk
BEGIN:VEVENT
UID:69ed2740091df
DTSTART:20260430T190000Z
SEQUENCE:0
TRANSP:OPAQUE
LOCATION:Veľká Lehôtka\, \, Veľká Lehôtka
SUMMARY:HASIČSKÁ ZÁBAVA - MAJÁLES
CLASS:PUBLIC
DESCRIPTION:Kultúrne a spoločenské stredisko v Prievidzi v spolupráci s
  Dobrovoľným hasičským zborom vo Veľkej Lehôtke vás pozýva na trad
 ičnú Hasičskú zábavu spojenú s majálesom
DTSTAMP:20260425T204240Z
END:VEVENT
END:VCALENDAR