BEGIN:VCALENDAR
VERSION:2.0
PRODID:www.codnes.sk
BEGIN:VEVENT
UID:69e757e184405
DTSTART:20260425T180000Z
SEQUENCE:0
TRANSP:OPAQUE
LOCATION:Športová hala Prievidza\, Olympionikov 2\, Prievidza
SUMMARY:HK Bojnice - MŠK P. Bystrica | semifinále hádzaná
CLASS:PUBLIC
DESCRIPTION:SEMIFINÁLE JE TU! \nBojujeme o finále a začíname DOMA! 👊
 \n\nČaká nás tvrdá séria proti MŠK P. Bystrica – hrá sa na 3 ví
 ťazné zápasy.\nMY SME PRIPRAVENÍ. STE AJ VY? 😤\n\n📅 Program:\n
 ➡️ 25.04. | 18:00 | ŠH PRIEVIDZA\n➡️ 29.04. | 18:00 | ŠH P. BYST
 RICA\n➡️ 02.05. | 18:00 | ŠH PRIEVIDZA\n➡️ 06.05. | 19:30 | ŠH P
 . BYSTRICA*\n➡️ 09.05. | 18:00 | ŠH PRIEVIDZA*\n\n💙 V SOBOTU MUSÍ
  ŠH PRIEVIDZA HORIEŤ!\nPRÍĎTE NÁS DOTLAČIŤ K PRVÉMU BODU 🔥\n #L
 enSpoluSmeHkBojnice
DTSTAMP:20260421T105633Z
END:VEVENT
END:VCALENDAR