BEGIN:VCALENDAR
VERSION:2.0
PRODID:www.codnes.sk
BEGIN:VEVENT
UID:69ece6e5559ba
DTSTART:20260320T140000Z
SEQUENCE:0
TRANSP:OPAQUE
DTEND:20260430T180000Z
LOCATION:Galéria Imricha Vysočana Prievidza\, 36 Námestie slobody\, Prie
 vidza
SUMMARY:Ján Papco – ZRKADLENIE KRÁSY – obrázky a príbehy na skle
CLASS:PUBLIC
DESCRIPTION:Aktuálna výstava prezentuje Jána Papca ako významnú osobno
 sť tradičnej výtvarnej kultúry na Slovensku v oblasti novodobých mali
 eb na skle.
DTSTAMP:20260425T160805Z
END:VEVENT
END:VCALENDAR