BEGIN:VCALENDAR
VERSION:2.0
PRODID:www.codnes.sk
BEGIN:VEVENT
UID:69ec37fc46471
DTSTART:20260523T190000Z
SEQUENCE:0
TRANSP:OPAQUE
LOCATION:Kultúrny dom Prievidza - KaSS\, Fraňa Madvu 11\, Prievidza
SUMMARY:JANA KRIŠTOF LEHOTSKÁ - KONCERT ELEMENTY
CLASS:PUBLIC
DESCRIPTION:Štvrtá koncertná show Jany Krištof Lehotskej
DTSTAMP:20260425T034148Z
END:VEVENT
END:VCALENDAR