BEGIN:VCALENDAR
VERSION:2.0
PRODID:www.codnes.sk
BEGIN:VEVENT
UID:69eccc69a6575
DTSTART:20260428T180000Z
SEQUENCE:0
TRANSP:OPAQUE
DTEND:20260428T203000Z
LOCATION:Top Café Prievidza\, 28 Š. Králika\, Prievidza
SUMMARY:Kvíz v TOPCAFE
CLASS:PUBLIC
DESCRIPTION:Príď sa zabaviť s partiou na vedomostný kvíz.
DTSTAMP:20260425T141505Z
END:VEVENT
END:VCALENDAR