BEGIN:VCALENDAR
VERSION:2.0
PRODID:www.codnes.sk
BEGIN:VEVENT
UID:69e75a61c6071
DTSTART:20260524T170000Z
SEQUENCE:0
TRANSP:OPAQUE
DTEND:20260524T200000Z
LOCATION:Meridiana Bojnice Pension & Restaurant\, Prievidzká 55\, Bojnice
SUMMARY:🎨 Maľovanie so silikónovými špachtľami
CLASS:PUBLIC
DESCRIPTION:Príďte vypnúť hlavu a nechať za seba hovoriť farby!
DTSTAMP:20260421T110713Z
END:VEVENT
END:VCALENDAR