BEGIN:VCALENDAR
VERSION:2.0
PRODID:www.codnes.sk
BEGIN:VEVENT
UID:69e8a766b18f5
DTSTART:20260525T180000Z
SEQUENCE:0
TRANSP:OPAQUE
LOCATION:Kultúrny dom Prievidza - KaSS\, Fraňa Madvu 11\, Prievidza
SUMMARY:Medvedí princ
CLASS:PUBLIC
DESCRIPTION:Film pri príležitosti Medzinárodného dňa detí so slovensk
 ým dabingom.
DTSTAMP:20260422T104806Z
END:VEVENT
END:VCALENDAR