BEGIN:VCALENDAR
VERSION:2.0
PRODID:www.codnes.sk
BEGIN:VEVENT
UID:69e8a826b5c53
DTSTART:20260518T180000Z
SEQUENCE:0
TRANSP:OPAQUE
LOCATION:Kultúrny dom Prievidza - KaSS\, Fraňa Madvu 11\, Prievidza
SUMMARY:Mengeleho zmiznutie
CLASS:PUBLIC
DESCRIPTION:Príbeh anjela smrti
DTSTAMP:20260422T105118Z
END:VEVENT
END:VCALENDAR