BEGIN:VCALENDAR
VERSION:2.0
PRODID:www.codnes.sk
BEGIN:VEVENT
UID:69ece39db5101
DTSTART:20260506T190000Z
SEQUENCE:0
TRANSP:OPAQUE
DTEND:20260506T203000Z
LOCATION:Top Café Prievidza\, 28 Š. Králika\, Prievidza
SUMMARY:Na Kus Reči
CLASS:PUBLIC
DESCRIPTION:Májovým hosťom vo večernej talkshow NA KUS REČI bude moder
 átor\, herec a zabávač Juraj „Šoko“ Tabaček\, v súčastnosti pô
 sobiaci prevažne v zábavných televíznych programoch.
DTSTAMP:20260425T155405Z
END:VEVENT
END:VCALENDAR