BEGIN:VCALENDAR
VERSION:2.0
PRODID:www.codnes.sk
BEGIN:VEVENT
UID:69ed46a5a4fb9
DTSTART:20260520T190000Z
SEQUENCE:0
TRANSP:OPAQUE
DTEND:20260520T213000Z
LOCATION:Galéria Jabloň - Prievidza\, 6 M. Falešníka\, Prievidza
SUMMARY:Noc literatúry 2026
CLASS:PUBLIC
DESCRIPTION:Prievidza privíta druhý ročník medzinárodného podujatia N
 oc literatúry !
DTSTAMP:20260425T225637Z
END:VEVENT
END:VCALENDAR