BEGIN:VCALENDAR
VERSION:2.0
PRODID:www.codnes.sk
BEGIN:VEVENT
UID:69ece30dad098
DTSTART:20260514T163000Z
SEQUENCE:0
TRANSP:OPAQUE
DTEND:20260514T180000Z
LOCATION:Hornonitrianska knižnica v Prievidzi\, Hviezdoslavova 3\, Prievid
 za
SUMMARY:Objavte\, ako podporiť zdravie rastlín bez chémie
CLASS:PUBLIC
DESCRIPTION:Objavte\, ako vytvoriť záhradu\, v ktorej rastliny prosperuj
 ú bez potreby používania chémie a ako podporiť ich prirodzenú obrany
 schopnosť. Už 14.5.2026 o 16:30 v Hornonitrianskej knižnici v Prievidzi
 .
DTSTAMP:20260425T155141Z
END:VEVENT
END:VCALENDAR