BEGIN:VCALENDAR
VERSION:2.0
PRODID:www.codnes.sk
BEGIN:VEVENT
UID:69eb6e6248075
DTSTART:20260425T180000Z
SEQUENCE:0
TRANSP:OPAQUE
LOCATION:Barrack - Bowling & Laser Game Prievidza\, Mliekarenská\, Prievid
 za
SUMMARY:Oktagon 25.4 v Barracku
CLASS:PUBLIC
DESCRIPTION:Vysielame maživo OKTAGON 87
DTSTAMP:20260424T132138Z
END:VEVENT
END:VCALENDAR