BEGIN:VCALENDAR
VERSION:2.0
PRODID:www.codnes.sk
BEGIN:VEVENT
UID:69ecfce99995b
DTSTART:20260519T093000Z
SEQUENCE:0
TRANSP:OPAQUE
DTEND:20260519T110000Z
LOCATION:Regionálne kultúrne centrum v Prievidzi\, Záhradnícka 19\, Pri
 evidza
SUMMARY:Praktické aplikácie pre seniorov s DigiQ
CLASS:PUBLIC
DESCRIPTION:Prineste si so sebou smartfón alebo tablet. Vstup voľný
DTSTAMP:20260425T174201Z
END:VEVENT
END:VCALENDAR