BEGIN:VCALENDAR
VERSION:2.0
PRODID:www.codnes.sk
BEGIN:VEVENT
UID:69ed75e8305c1
DTSTART:20260507T090000Z
SEQUENCE:0
TRANSP:OPAQUE
DTEND:20260604T170000Z
LOCATION:Regionálne kultúrne centrum v Prievidzi\, Záhradnícka 19\, Pri
 evidza
SUMMARY:Prieskum 2026
CLASS:PUBLIC
DESCRIPTION:Výstava absolventov odborov ZUŠ L. Stančeka v Prievidzi. Ver
 nisáž: 6. 5. 2026 o 17.00 h
DTSTAMP:20260426T021816Z
END:VEVENT
END:VCALENDAR