BEGIN:VCALENDAR
VERSION:2.0
PRODID:www.codnes.sk
BEGIN:VEVENT
UID:69e4f460d6a53
DTSTART:20260501T170000Z
SEQUENCE:0
TRANSP:OPAQUE
DTEND:20260501T190000Z
LOCATION:Kultúrne centrum Bojnice\, Hurbanovo námestie č.19/41\, Bojnice
SUMMARY:Stavanie mája 2026 Bojnice
CLASS:PUBLIC
DESCRIPTION:V piatok 1. mája sa v našom meste uskutoční obľúbené tra
 dičné podujatie – Stavanie mája.
DTSTAMP:20260419T152728Z
END:VEVENT
END:VCALENDAR