BEGIN:VCALENDAR
VERSION:2.0
PRODID:www.codnes.sk
BEGIN:VEVENT
UID:69ecf661128c3
DTSTART:20260515T170000Z
SEQUENCE:0
TRANSP:OPAQUE
DTEND:20260515T180000Z
LOCATION:Hornonitrianska knižnica v Prievidzi\, Hviezdoslavova 3\, Prievid
 za
SUMMARY:Stretnite sa s autorkami knižnej novinky Áčko za lásku
CLASS:PUBLIC
DESCRIPTION:Stretnutie s autorkami knihy Áčko za lásku- Ivetou Pernišov
 ou a Natali Fox
DTSTAMP:20260425T171409Z
END:VEVENT
END:VCALENDAR