BEGIN:VCALENDAR
VERSION:2.0
PRODID:www.codnes.sk
BEGIN:VEVENT
UID:69e4f58758111
DTSTART:20260409T170000Z
SEQUENCE:0
TRANSP:OPAQUE
DTEND:20260430T150000Z
LOCATION:Kultúrne centrum Bojnice\, Hurbanovo námestie č.19/41\, Bojnice
SUMMARY:Výstava obrazov „Kovačické maliarske gény“
CLASS:PUBLIC
DESCRIPTION:Výstava obrazov Pavla Cicku a dcéry Jarmily so Zuzanou Veresk
 y\, a. h.
DTSTAMP:20260419T153223Z
END:VEVENT
END:VCALENDAR