BEGIN:VCALENDAR
VERSION:2.0
PRODID:www.codnes.sk
BEGIN:VEVENT
UID:69e759331405a
DTSTART:20260503T170000Z
SEQUENCE:0
TRANSP:OPAQUE
LOCATION:Dom kultúry a knižnica Mesta Handlová\, Námestie baníkov č.3
 \, Handlová
SUMMARY:XXXVII. KULTURÁCKY QUÍZ
CLASS:PUBLIC
DESCRIPTION:DK a KM Handlová pozýva na vedomostný kvíz \nXXXVII. KULTUR
 ÁCKY QUÍZ\nnedeľa\, 3. máj 2026 od 17.00
DTSTAMP:20260421T110211Z
END:VEVENT
END:VCALENDAR