BEGIN:VCALENDAR
VERSION:2.0
PRODID:www.codnes.sk
BEGIN:VEVENT
UID:69eb3677ccdde
DTSTART:20260505T180000Z
SEQUENCE:0
TRANSP:OPAQUE
LOCATION:Kultúrny dom Prievidza - KaSS\, Fraňa Madvu 11\, Prievidza
SUMMARY:Yomeddine
CLASS:PUBLIC
DESCRIPTION:Road movie o dôstojnosti a odvahe prijať inakosť\, ktorá sa
  na prvý pohľad môže zdať ohavná.
DTSTAMP:20260424T092303Z
END:VEVENT
END:VCALENDAR