BEGIN:VCALENDAR
VERSION:2.0
PRODID:www.codnes.sk
BEGIN:VEVENT
UID:69ebf630997fe
DTSTART:20260518T093000Z
SEQUENCE:0
TRANSP:OPAQUE
DTEND:20260518T113000Z
LOCATION:Hornonitrianska knižnica v Prievidzi\, Hviezdoslavova 3\, Prievid
 za
SUMMARY:19. ročník súťažnej prehliadky - MÁM BÁSNIČKU NA JAZÝČKU
CLASS:PUBLIC
DESCRIPTION:Hornonitrianska knižnica v Prievidzi pozýva deti z materskýc
 h škôl na 19. ročník recitačnej prehliadky Mám básničku na jazýč
 ku.
DTSTAMP:20260424T230104Z
END:VEVENT
END:VCALENDAR