BEGIN:VCALENDAR
VERSION:2.0
PRODID:www.codnes.sk
BEGIN:VEVENT
UID:69e54c07233b3
DTSTART:20260424T190000Z
SEQUENCE:0
TRANSP:OPAQUE
LOCATION:Meridiana Bojnice Pension & Restaurant\, Prievidzká 55\, Bojnice
SUMMARY:BEKIM + MAMA / ZRODILA SA HVIEZDA / stand-up show - Bojnice
CLASS:PUBLIC
DESCRIPTION:Čakajú vás dve hodiny úprimnej zábavy\, kde sa nič neskr
 ýva a nič nehrá na istotu.
DTSTAMP:20260419T214127Z
END:VEVENT
END:VCALENDAR