BEGIN:VCALENDAR
VERSION:2.0
PRODID:www.codnes.sk
BEGIN:VEVENT
UID:69ed2c75cfeba
DTSTART:20260501T100000Z
SEQUENCE:0
TRANSP:OPAQUE
DTEND:20260501T170000Z
LOCATION:Galéria Jabloň - Prievidza\, 6 M. Falešníka\, Prievidza
SUMMARY:Deň otvorených dverí Galérie Jabloň 2026
CLASS:PUBLIC
DESCRIPTION:1. MÁJ 2026 – JEDEN DEŇ\, MNOŽSTVO ZÁŽITKOV\n\nKultúrne
  a kreatívne centrum Galéria Jabloň v Prievidzi vás srdečne pozýva n
 a VIII. ročník obľúbeného Dňa otvorených dverí. Príďte zažiť d
 eň plný umenia\, histórie a skvelej nálady v priestoroch jednej budovy
  s množstvom príbehov.
DTSTAMP:20260425T210453Z
END:VEVENT
END:VCALENDAR