BEGIN:VCALENDAR
VERSION:2.0
PRODID:www.codnes.sk
BEGIN:VEVENT
UID:69ed0cb303285
DTSTART:20260502T170000Z
SEQUENCE:0
TRANSP:OPAQUE
DTEND:20260502T182000Z
LOCATION:Kultúrny dom Prievidza - KaSS\, Fraňa Madvu 11\, Prievidza
SUMMARY:DIVADLO Z DVORA - NAŠA TETKA DELEGÁTKA THALIA 2026
CLASS:PUBLIC
DESCRIPTION:V dňoch 1. - 3. 5. 2026 sa v Regionálnom kultúrnom centre v 
 Prievidzi a v Kultúrnom a spoločenskom stredisku v Prievidzi uskutoční
  krajská prehliadka a súťaž ochotníckeho divadla Trenčianskeho kraja
  THALIA .\n\nVyhlasovateľ súťaže\, odborný garant a hlavný finančn
 ý partner: Národné osvetové centrum\nHlavný organizátor: Regionálne
  kultúrne centrum v Prievidzi\nSpoluorganizátori: Kultúrne a spoločens
 ké stredisko Prievidza\, Dom kultúry Nováky
DTSTAMP:20260425T184923Z
END:VEVENT
END:VCALENDAR