BEGIN:VCALENDAR
VERSION:2.0
PRODID:www.codnes.sk
BEGIN:VEVENT
UID:69ebe654bf9be
DTSTART:20260508T153000Z
SEQUENCE:0
TRANSP:OPAQUE
DTEND:20260508T163000Z
LOCATION:Hornonitrianska knižnica v Prievidzi\, Hviezdoslavova 3\, Prievid
 za
SUMMARY:Drobčekovo v knižnici: Fakt alebo mýtus? Najčastejšie mýty o 
 dojčení
CLASS:PUBLIC
DESCRIPTION:Drobčekovo v knižnici: Fakt alebo mýtus? Najčastejšie mýt
 y o dojčení.\nPozývame rodičov s deťmi na stretnutie z cyklu Drobček
 ovo v knižnici.\n8. 5. 2026\n15.30 hod.\n📍 Záhradnícka 21\, Prievidz
 a
DTSTAMP:20260424T215324Z
END:VEVENT
END:VCALENDAR