BEGIN:VCALENDAR
VERSION:2.0
PRODID:www.codnes.sk
BEGIN:VEVENT
UID:69e96d6f75977
DTSTART:20260425T100000Z
SEQUENCE:0
TRANSP:OPAQUE
DTEND:20260425T150000Z
LOCATION:Lesopark Hlboké Bojnice\, Hlboké\, Bojnice
SUMMARY:Lesoparku Hlboké - Otvorenie Huňadyho trailu
CLASS:PUBLIC
DESCRIPTION:Už túto sobotu 25. apríla prebehne v Bojniciach otvorenie Bi
 keroom Huňadyho flowtrailu. V rámci programu si na svoje prídu deti aj 
 dospelí a samozrejme všetci priaznivci cyklistiky a zábavy. Akcia sa us
 kutoční v lesoparku Hlboké\, ktorý tak zaháji letnú sezónu.
DTSTAMP:20260423T005303Z
END:VEVENT
END:VCALENDAR