BEGIN:VCALENDAR
VERSION:2.0
PRODID:www.codnes.sk
BEGIN:VEVENT
UID:69e76ece0f7b1
DTSTART:20260724T120000Z
SEQUENCE:0
TRANSP:OPAQUE
DTEND:20260726T120000Z
LOCATION:Hurbanovo námestie\, Bojnice\, Hurbanovo námestie\, Bojnice
SUMMARY:MULTI ART BOJNICE 2026
CLASS:PUBLIC
DESCRIPTION:Multikultúrny festival umenia\, remeselníci\, maliarske symp
 ózium\, latino tancovačka.
DTSTAMP:20260421T123422Z
END:VEVENT
END:VCALENDAR