BEGIN:VCALENDAR
VERSION:2.0
PRODID:www.codnes.sk
BEGIN:VEVENT
UID:69e69c09abcea
DTSTART:20260425T190000Z
SEQUENCE:0
TRANSP:OPAQUE
LOCATION:Kúpeľná kaviarnička\, Kúpeľná 1\, Bojnice
SUMMARY:Najlepšie scénky veselej partičky - divadelné zoskupenie He-Ja
CLASS:PUBLIC
DESCRIPTION:Srdečne vás pozývame na príjemné stretnutie v tento nádhe
 rný deň
DTSTAMP:20260420T213505Z
END:VEVENT
END:VCALENDAR