BEGIN:VCALENDAR
VERSION:2.0
PRODID:www.codnes.sk
BEGIN:VEVENT
UID:69ebf6b5582d2
DTSTART:20260521T090000Z
SEQUENCE:0
TRANSP:OPAQUE
DTEND:20260521T120000Z
LOCATION:Hornonitrianska knižnica v Prievidzi\, Hviezdoslavova 3\, Prievid
 za
SUMMARY:O.K. v realite aj na internete
CLASS:PUBLIC
DESCRIPTION:Podujatie pre triedne kolektívy so spisovateľom Romanom Brato
 m.
DTSTAMP:20260424T230317Z
END:VEVENT
END:VCALENDAR