BEGIN:VCALENDAR
VERSION:2.0
PRODID:www.codnes.sk
BEGIN:VEVENT
UID:69e734f3efd37
DTSTART:20260425T100000Z
SEQUENCE:0
TRANSP:OPAQUE
DTEND:20260425T130000Z
LOCATION:Hurbanovo námestie\, Bojnice\, Hurbanovo námestie\, Bojnice
SUMMARY:Otvorenie motorkárskej sezóny na Hornej Nitre 2026 (Bojnice\, Han
 dlová)
CLASS:PUBLIC
DESCRIPTION:Otvorenie moto - sezóny na Hornej Nitre (Bojnice\, Handlová)
DTSTAMP:20260421T082731Z
END:VEVENT
END:VCALENDAR