BEGIN:VCALENDAR
VERSION:2.0
PRODID:www.codnes.sk
BEGIN:VEVENT
UID:69e6e4da8fe38
DTSTART:20260425T200000Z
SEQUENCE:0
TRANSP:OPAQUE
DTEND:20260426T020000Z
LOCATION:Piano Club Prievidza\, Energetikov 193/29\, Prievidza
SUMMARY:PD DNB NIGHT - Piano klub
CLASS:PUBLIC
DESCRIPTION:S príchodom jari sa priestory Piano klubu ešte raz rozozvuči
 a drum’n’bassom.
DTSTAMP:20260421T024546Z
END:VEVENT
END:VCALENDAR