BEGIN:VCALENDAR
VERSION:2.0
PRODID:www.codnes.sk
BEGIN:VEVENT
UID:69eb474528718
DTSTART:20260429T190000Z
SEQUENCE:0
TRANSP:OPAQUE
DTEND:20260429T210000Z
LOCATION:Športová hala Prievidza\, Olympionikov 2\, Prievidza
SUMMARY:SEMIFINÁLOVÝ SÚBOJ 🔥 BC Prievidza - Patrioti Levice (2. zápa
 s semifinále TIPOS SBL)
CLASS:PUBLIC
DESCRIPTION:Rozbieha sa semifinálová bitka!
DTSTAMP:20260424T103445Z
END:VEVENT
END:VCALENDAR