BEGIN:VCALENDAR
VERSION:2.0
PRODID:www.codnes.sk
BEGIN:VEVENT
UID:69ebf1e96eafb
DTSTART:20260429T160000Z
SEQUENCE:0
TRANSP:OPAQUE
DTEND:20260430T180000Z
LOCATION:Námestie slobody Prievidza\, Námestie slobody\, Prievidza
SUMMARY:STAVANIE MÁJA A KVETINOVÝ TRH
CLASS:PUBLIC
DESCRIPTION:Pozývame vás na Stavanie mája\, kvetinový trh - dni plné t
 radícií a dobrej nálady.
DTSTAMP:20260424T224249Z
END:VEVENT
END:VCALENDAR