BEGIN:VCALENDAR
VERSION:2.0
PRODID:www.codnes.sk
BEGIN:VEVENT
UID:69ecf66ba21df
DTSTART:20260430T000000Z
SEQUENCE:0
TRANSP:OPAQUE
LOCATION:Kultúrny dom Prievidza - KaSS\, Fraňa Madvu 11\, Prievidza
SUMMARY:XOANA SHOW 30.rokov
CLASS:PUBLIC
DESCRIPTION:Záverečná prezentácia žiakov súkromnej základnej umeleck
 ej školy Xoana.
DTSTAMP:20260425T171419Z
END:VEVENT
END:VCALENDAR